BEGIN:VCALENDAR
VERSION:2.0
PRODID:-//Sektion Lyss-Busswil //NONSGML Events //EN
CALSCALE:GREGORIAN
X-WR-CALNAME:Sektion Lyss-Busswil
BEGIN:VEVENT
CREATED:20250602T123247Z
UID:1958
DTEND:20250922T080000
DTSTART:20250922T060000
DTSTAMP:20260420T083826Z
LOCATION:Bahnhof Lyss
DESCRIPTION:Die SVP Lyss-Busswil freut sich, Ihnen mitteilen zu dürfen, dass wir 
SUMMARY:Verteilaktion SVP Lyss-Busswil
ORGANIZER:
URL;VALUE=URI:https://www.svp-lyss-busswil.ch/aktuell/termine/verteilaktion-svp-lyss-busswil-5/
TRANSP:OPAQUE
END:VEVENT
END:VCALENDAR
