BEGIN:VCALENDAR
VERSION:2.0
PRODID:-//Sektion Lyss-Busswil //NONSGML Events //EN
CALSCALE:GREGORIAN
X-WR-CALNAME:Sektion Lyss-Busswil
BEGIN:VEVENT
CREATED:20260309T070918Z
UID:2157
DTEND:20261029T000000
DTSTART:20261029T000000
DTSTAMP:20260424T145401Z
LOCATION:
DESCRIPTION:
SUMMARY:Kegelabend SVP Lyss-Busswil
ORGANIZER:
URL;VALUE=URI:https://www.svp-lyss-busswil.ch/aktuell/termine/kegelabend-svp-lyss-busswil/
TRANSP:OPAQUE
END:VEVENT
END:VCALENDAR
