BEGIN:VCALENDAR
VERSION:2.0
PRODID:-//Sektion Lyss-Busswil //NONSGML Events //EN
CALSCALE:GREGORIAN
X-WR-CALNAME:Sektion Lyss-Busswil
BEGIN:VEVENT
CREATED:20260309T071012Z
UID:2159
DTEND:20270206T000000
DTSTART:20270206T000000
DTSTAMP:20260424T144450Z
LOCATION:
DESCRIPTION:
SUMMARY:Fondueplausch
ORGANIZER:
URL;VALUE=URI:https://www.svp-lyss-busswil.ch/aktuell/termine/fondueplausch-2/
TRANSP:OPAQUE
END:VEVENT
END:VCALENDAR
