BEGIN:VCALENDAR
VERSION:2.0
PRODID:-//Sektion Lyss-Busswil //NONSGML Events //EN
CALSCALE:GREGORIAN
X-WR-CALNAME:Sektion Lyss-Busswil
BEGIN:VEVENT
CREATED:20260309T071110Z
UID:2161
DTEND:20270304T220000
DTSTART:20270304T193000
DTSTAMP:20260424T164748Z
LOCATION:
DESCRIPTION:
SUMMARY:Parteiversammlung 2027
ORGANIZER:
URL;VALUE=URI:https://www.svp-lyss-busswil.ch/aktuell/termine/parteiversammlung-2027/
TRANSP:OPAQUE
END:VEVENT
END:VCALENDAR
