BEGIN:VCALENDAR
VERSION:2.0
PRODID:-//Sektion Lyss-Busswil //NONSGML Events //EN
CALSCALE:GREGORIAN
X-WR-CALNAME:Sektion Lyss-Busswil
BEGIN:VEVENT
CREATED:20210630T064623Z
UID:783
DTEND:20210703T120000
DTSTART:20210703T100000
DTSTAMP:20260420T112452Z
LOCATION:Region Migros
DESCRIPTION:
SUMMARY:Patrick Häni Roadtrip
ORGANIZER:Patrick Häni
URL;VALUE=URI:https://www.svp-lyss-busswil.ch/aktuell/termine/patrick-haenni-roadtrip/
TRANSP:OPAQUE
END:VEVENT
END:VCALENDAR
