BEGIN:VCALENDAR
VERSION:2.0
PRODID:-//Sektion Lyss-Busswil //NONSGML Events //EN
CALSCALE:GREGORIAN
X-WR-CALNAME:Sektion Lyss-Busswil
BEGIN:VEVENT
CREATED:20210630T064947Z
UID:789
DTEND:20210807T130000
DTSTART:20210807T114500
DTSTAMP:20260420T112005Z
LOCATION:Haldenweg
DESCRIPTION:
SUMMARY:Patrick Häni Roadtrip
ORGANIZER:Patrick Häni
URL;VALUE=URI:https://www.svp-lyss-busswil.ch/aktuell/termine/patrick-haenni-roadtrip-4/
TRANSP:OPAQUE
END:VEVENT
END:VCALENDAR
