BEGIN:VCALENDAR
VERSION:2.0
PRODID:-//Sektion Lyss-Busswil //NONSGML Events //EN
CALSCALE:GREGORIAN
X-WR-CALNAME:Sektion Lyss-Busswil
BEGIN:VEVENT
CREATED:20210630T065107Z
UID:791
DTEND:20210814T160000
DTSTART:20210814T140000
DTSTAMP:20260420T112632Z
LOCATION:Stiglimatte
DESCRIPTION:
SUMMARY:Patrick Häni Roadtrip
ORGANIZER:Patrick Häni
URL;VALUE=URI:https://www.svp-lyss-busswil.ch/aktuell/termine/patrick-haenni-roadtrip-5/
TRANSP:OPAQUE
END:VEVENT
END:VCALENDAR
