BEGIN:VCALENDAR
VERSION:2.0
PRODID:-//Sektion Lyss-Busswil //NONSGML Events //EN
CALSCALE:GREGORIAN
X-WR-CALNAME:Sektion Lyss-Busswil
BEGIN:VEVENT
CREATED:20210630T065307Z
UID:793
DTEND:20210911T120000
DTSTART:20210911T100000
DTSTAMP:20260420T112118Z
LOCATION:Busswilstr. Region Aldi
DESCRIPTION:
SUMMARY:Patrick Häni Roadtrip
ORGANIZER:Patrick Häni
URL;VALUE=URI:https://www.svp-lyss-busswil.ch/aktuell/termine/patrick-haenni-roadtrip-6/
TRANSP:OPAQUE
END:VEVENT
END:VCALENDAR
